BEGIN:VCALENDAR
VERSION:2.0
PRODID:-//The Bridge - ECPv6.15.20//NONSGML v1.0//EN
CALSCALE:GREGORIAN
METHOD:PUBLISH
X-WR-CALNAME:The Bridge
X-ORIGINAL-URL:https://thebridge.amsterdam
X-WR-CALDESC:Evenementen voor The Bridge
REFRESH-INTERVAL;VALUE=DURATION:PT1H
X-Robots-Tag:noindex
X-PUBLISHED-TTL:PT1H
BEGIN:VTIMEZONE
TZID:UTC
BEGIN:STANDARD
TZOFFSETFROM:+0000
TZOFFSETTO:+0000
TZNAME:UTC
DTSTART:20240101T000000
END:STANDARD
END:VTIMEZONE
BEGIN:VEVENT
DTSTART;VALUE=DATE:20251109
DTEND;VALUE=DATE:20251113
DTSTAMP:20260421T103030
CREATED:20250225T114823Z
LAST-MODIFIED:20250408T174137Z
UID:10276-1762646400-1762991999@thebridge.amsterdam
SUMMARY:Elevate! 2025
DESCRIPTION:Voor onze Elevate 2025 is het thema: License to Play! Work and Play in het bruisende Las Vegas. \nJe hebt toch alle successen behaald (dat denk je) en dan? what’s next?\nExponentieel meer impact maken. Je leiderschapsstijl te ownen op een manier die moeiteloos voelt en waardevol is voor je omgeving.\nDit is geen standaard mastermind! Dit is een totale reset van hoe je denkt\, handelt en presteert. Wat is op dit moment je gameplan? Geef jezelf een license to play! Met lichtheid je volgende stappen nemen.\nLeiderschap kan eenzaam voelen. Hoe hoger je komt\, hoe minder mensen écht begrijpen wat je drijft. Maar hier? Hier ben je omringd door visionairs\, inzichten en waardevolle connecties.\nDit is voor leiders die geen genoegen nemen met de status quo. Dit is niet voor iedereen. Ben je niet zoals iedereen? Sluit je dan aan. \nWil je meer weten? Klik hier voor de website.
URL:https://thebridge.amsterdam/event/elevate-2025/
LOCATION:Las Vegas\, Las Vegas\, United States
CATEGORIES:Mastermind
END:VEVENT
END:VCALENDAR